BEGIN:VCALENDAR
VERSION:2.0
PRODID:-//Bosom Pals - ECPv6.15.20//NONSGML v1.0//EN
CALSCALE:GREGORIAN
METHOD:PUBLISH
X-ORIGINAL-URL:https://www.bosom-pals.org.uk
X-WR-CALDESC:Events for Bosom Pals
REFRESH-INTERVAL;VALUE=DURATION:PT1H
X-Robots-Tag:noindex
X-PUBLISHED-TTL:PT1H
BEGIN:VTIMEZONE
TZID:Europe/London
BEGIN:DAYLIGHT
TZOFFSETFROM:+0000
TZOFFSETTO:+0100
TZNAME:BST
DTSTART:20240331T010000
END:DAYLIGHT
BEGIN:STANDARD
TZOFFSETFROM:+0100
TZOFFSETTO:+0000
TZNAME:GMT
DTSTART:20241027T010000
END:STANDARD
BEGIN:DAYLIGHT
TZOFFSETFROM:+0000
TZOFFSETTO:+0100
TZNAME:BST
DTSTART:20250330T010000
END:DAYLIGHT
BEGIN:STANDARD
TZOFFSETFROM:+0100
TZOFFSETTO:+0000
TZNAME:GMT
DTSTART:20251026T010000
END:STANDARD
BEGIN:DAYLIGHT
TZOFFSETFROM:+0000
TZOFFSETTO:+0100
TZNAME:BST
DTSTART:20260329T010000
END:DAYLIGHT
BEGIN:STANDARD
TZOFFSETFROM:+0100
TZOFFSETTO:+0000
TZNAME:GMT
DTSTART:20261025T010000
END:STANDARD
END:VTIMEZONE
BEGIN:VEVENT
DTSTART;TZID=Europe/London:20251008T194500
DTEND;TZID=Europe/London:20251008T213000
DTSTAMP:20260422T131225
CREATED:20250711T140842Z
LAST-MODIFIED:20250711T140842Z
UID:3883-1759952700-1759959000@www.bosom-pals.org.uk
SUMMARY:8 October meeting
DESCRIPTION:This will be a social evening playing Beetle and cake will be served with your tea/coffee \n \n 
URL:https://www.bosom-pals.org.uk/events/8-october-meeting/
LOCATION:Transfiguration Church Hall\, MK42 8BQ
CATEGORIES:meetings
END:VEVENT
BEGIN:VEVENT
DTSTART;TZID=Europe/London:20251015T103000
DTEND;TZID=Europe/London:20251015T120000
DTSTAMP:20260422T131225
CREATED:20250711T135639Z
LAST-MODIFIED:20250711T135639Z
UID:3879-1760524200-1760529600@www.bosom-pals.org.uk
SUMMARY:October coffee meet-up
DESCRIPTION:From 10.30 to 12 noon on Wednesday 15th October\, Denise will be in attendance at Gallones in the Old Arcade hosting our monthly coffee meet-up so if you are in Bedford during that time do drop in for a drink and chat
URL:https://www.bosom-pals.org.uk/events/october-coffee-meet-up-2/
LOCATION:Gallone’s Ice Cream Parlour\, Old Arcade\, Bedford
CATEGORIES:events
ATTACH;FMTTYPE=image/jpeg:https://www.bosom-pals.org.uk/wp-content/uploads/2023/11/coffee-scaled.jpg
END:VEVENT
END:VCALENDAR