BEGIN:VCALENDAR
VERSION:2.0
PRODID:-//Bosom Pals - ECPv6.15.20//NONSGML v1.0//EN
CALSCALE:GREGORIAN
METHOD:PUBLISH
X-ORIGINAL-URL:https://www.bosom-pals.org.uk
X-WR-CALDESC:Events for Bosom Pals
REFRESH-INTERVAL;VALUE=DURATION:PT1H
X-Robots-Tag:noindex
X-PUBLISHED-TTL:PT1H
BEGIN:VTIMEZONE
TZID:Europe/London
BEGIN:DAYLIGHT
TZOFFSETFROM:+0000
TZOFFSETTO:+0100
TZNAME:BST
DTSTART:20240331T010000
END:DAYLIGHT
BEGIN:STANDARD
TZOFFSETFROM:+0100
TZOFFSETTO:+0000
TZNAME:GMT
DTSTART:20241027T010000
END:STANDARD
BEGIN:DAYLIGHT
TZOFFSETFROM:+0000
TZOFFSETTO:+0100
TZNAME:BST
DTSTART:20250330T010000
END:DAYLIGHT
BEGIN:STANDARD
TZOFFSETFROM:+0100
TZOFFSETTO:+0000
TZNAME:GMT
DTSTART:20251026T010000
END:STANDARD
BEGIN:DAYLIGHT
TZOFFSETFROM:+0000
TZOFFSETTO:+0100
TZNAME:BST
DTSTART:20260329T010000
END:DAYLIGHT
BEGIN:STANDARD
TZOFFSETFROM:+0100
TZOFFSETTO:+0000
TZNAME:GMT
DTSTART:20261025T010000
END:STANDARD
END:VTIMEZONE
BEGIN:VEVENT
DTSTART;TZID=Europe/London:20250514T194500
DTEND;TZID=Europe/London:20250514T213000
DTSTAMP:20260423T183458
CREATED:20250103T155959Z
LAST-MODIFIED:20250213T123440Z
UID:3649-1747251900-1747258200@www.bosom-pals.org.uk
SUMMARY:14 May Meeting
DESCRIPTION:Delphi Ellis will be talking about the meaning of our dreams and how dreams can help you heal in her “Answers in the Dark” presentation
URL:https://www.bosom-pals.org.uk/events/14-may-meeting/
LOCATION:Church of the Transfiguration\, Bedford Road\, Kempston\, Bedford\, MK42 8BQ
CATEGORIES:meetings
END:VEVENT
BEGIN:VEVENT
DTSTART;TZID=Europe/London:20250515T111500
DTEND;TZID=Europe/London:20250515T121500
DTSTAMP:20260423T183458
CREATED:20250405T162344Z
LAST-MODIFIED:20250405T162344Z
UID:3695-1747307700-1747311300@www.bosom-pals.org.uk
SUMMARY:Visit to Panacea Museum on Thursday 15th May
DESCRIPTION:Brenda has arranged a visit for 11.15am on Thursday\, 15th May  to this very interesting Museum which tells the fascinating story of the Panacea Society which was a remarkable religious community formed in the early 20th century. It is located at 11 Newnham Road\, Bedford\, MK40 3NX.  Members can bring a guest and there is a charge of £2 per person although you will be able to donate more at the museum if you wish to do so. \nThe tour lasts about an hour after which members can purchase hot and cold drinks\, assorted savoury and sweet snacks plus toasted tea cakes.  15 is the maximum group size but if there is sufficient interest a later tour can be arranged to take place at 12.15 on the same day. \nTo secure your place\, please contact Brenda – brendahart628@gmail.com – or put your name on the list at the April meeting.
URL:https://www.bosom-pals.org.uk/events/visit-to-panacea-museum-on-thursday-15th-may/
CATEGORIES:events
ATTACH;FMTTYPE=image/jpeg:https://www.bosom-pals.org.uk/wp-content/uploads/2025/04/Panacea-Museum.jpg
END:VEVENT
BEGIN:VEVENT
DTSTART;TZID=Europe/London:20250522T140000
DTEND;TZID=Europe/London:20250522T153000
DTSTAMP:20260423T183458
CREATED:20250103T164822Z
LAST-MODIFIED:20250103T164822Z
UID:3669-1747922400-1747927800@www.bosom-pals.org.uk
SUMMARY:Thursday 22 May coffee meet-up
DESCRIPTION:Margaret will be sitting in Gallones Ice Cream Parlour from 2 to 3.30pm talking to any members who join her for a drink and/or ice cream
URL:https://www.bosom-pals.org.uk/events/thursday-22-may-coffee-meet-up/
LOCATION:Gallone’s Ice Cream Parlour\, Old Arcade\, Bedford
CATEGORIES:events
ATTACH;FMTTYPE=image/jpeg:https://www.bosom-pals.org.uk/wp-content/uploads/2025/01/Cappucchino-coffee.jpg
END:VEVENT
END:VCALENDAR