BEGIN:VCALENDAR
VERSION:2.0
PRODID:-//Bosom Pals - ECPv6.15.20//NONSGML v1.0//EN
CALSCALE:GREGORIAN
METHOD:PUBLISH
X-WR-CALNAME:Bosom Pals
X-ORIGINAL-URL:https://www.bosom-pals.org.uk
X-WR-CALDESC:Events for Bosom Pals
REFRESH-INTERVAL;VALUE=DURATION:PT1H
X-Robots-Tag:noindex
X-PUBLISHED-TTL:PT1H
BEGIN:VTIMEZONE
TZID:Europe/London
BEGIN:DAYLIGHT
TZOFFSETFROM:+0000
TZOFFSETTO:+0100
TZNAME:BST
DTSTART:20240331T010000
END:DAYLIGHT
BEGIN:STANDARD
TZOFFSETFROM:+0100
TZOFFSETTO:+0000
TZNAME:GMT
DTSTART:20241027T010000
END:STANDARD
BEGIN:DAYLIGHT
TZOFFSETFROM:+0000
TZOFFSETTO:+0100
TZNAME:BST
DTSTART:20250330T010000
END:DAYLIGHT
BEGIN:STANDARD
TZOFFSETFROM:+0100
TZOFFSETTO:+0000
TZNAME:GMT
DTSTART:20251026T010000
END:STANDARD
BEGIN:DAYLIGHT
TZOFFSETFROM:+0000
TZOFFSETTO:+0100
TZNAME:BST
DTSTART:20260329T010000
END:DAYLIGHT
BEGIN:STANDARD
TZOFFSETFROM:+0100
TZOFFSETTO:+0000
TZNAME:GMT
DTSTART:20261025T010000
END:STANDARD
END:VTIMEZONE
BEGIN:VEVENT
DTSTART;TZID=Europe/London:20250918T140000
DTEND;TZID=Europe/London:20250918T153000
DTSTAMP:20260422T154348
CREATED:20250711T121239Z
LAST-MODIFIED:20250811T140508Z
UID:3877-1758204000-1758209400@www.bosom-pals.org.uk
SUMMARY:September coffee meet-up
DESCRIPTION:Margaret will be sitting in Gallones in the Old Arcade from 2 to 3.30pm on Thursday\, 18 September to welcome any members who wish to join her for a coffee and chat.
URL:https://www.bosom-pals.org.uk/events/september-coffee-meet-up-2/
LOCATION:Gallone’s Ice Cream Parlour\, Old Arcade\, Bedford
CATEGORIES:events
END:VEVENT
END:VCALENDAR