BEGIN:VCALENDAR
VERSION:2.0
PRODID:-//Bosom Pals - ECPv6.15.20//NONSGML v1.0//EN
CALSCALE:GREGORIAN
METHOD:PUBLISH
X-ORIGINAL-URL:https://www.bosom-pals.org.uk
X-WR-CALDESC:Events for Bosom Pals
REFRESH-INTERVAL;VALUE=DURATION:PT1H
X-Robots-Tag:noindex
X-PUBLISHED-TTL:PT1H
BEGIN:VTIMEZONE
TZID:Europe/London
BEGIN:DAYLIGHT
TZOFFSETFROM:+0000
TZOFFSETTO:+0100
TZNAME:BST
DTSTART:20240331T010000
END:DAYLIGHT
BEGIN:STANDARD
TZOFFSETFROM:+0100
TZOFFSETTO:+0000
TZNAME:GMT
DTSTART:20241027T010000
END:STANDARD
BEGIN:DAYLIGHT
TZOFFSETFROM:+0000
TZOFFSETTO:+0100
TZNAME:BST
DTSTART:20250330T010000
END:DAYLIGHT
BEGIN:STANDARD
TZOFFSETFROM:+0100
TZOFFSETTO:+0000
TZNAME:GMT
DTSTART:20251026T010000
END:STANDARD
BEGIN:DAYLIGHT
TZOFFSETFROM:+0000
TZOFFSETTO:+0100
TZNAME:BST
DTSTART:20260329T010000
END:DAYLIGHT
BEGIN:STANDARD
TZOFFSETFROM:+0100
TZOFFSETTO:+0000
TZNAME:GMT
DTSTART:20261025T010000
END:STANDARD
END:VTIMEZONE
BEGIN:VEVENT
DTSTART;TZID=Europe/London:20250820T140000
DTEND;TZID=Europe/London:20250820T153000
DTSTAMP:20260423T153039
CREATED:20250711T113228Z
LAST-MODIFIED:20250711T113228Z
UID:3866-1755698400-1755703800@www.bosom-pals.org.uk
SUMMARY:August coffee meet-up at Mowsbury Park
DESCRIPTION:As requested by members at the April AGM\, we are holding an outdoor (weather permitting) coffee meet-up on Wednesday 20th August from 2 to 3.30pm at Mowsbury Park near the cafe. \nplease remember to bring your own chair and refreshments although you can obviously purchase some from the cafe.
URL:https://www.bosom-pals.org.uk/events/august-coffee-meet-up-at-mowsbury-park/
LOCATION:Mowsbury Park
CATEGORIES:events
END:VEVENT
END:VCALENDAR