BEGIN:VCALENDAR
VERSION:2.0
PRODID:-//Bosom Pals - ECPv6.15.20//NONSGML v1.0//EN
CALSCALE:GREGORIAN
METHOD:PUBLISH
X-WR-CALNAME:Bosom Pals
X-ORIGINAL-URL:https://www.bosom-pals.org.uk
X-WR-CALDESC:Events for Bosom Pals
REFRESH-INTERVAL;VALUE=DURATION:PT1H
X-Robots-Tag:noindex
X-PUBLISHED-TTL:PT1H
BEGIN:VTIMEZONE
TZID:Europe/London
BEGIN:DAYLIGHT
TZOFFSETFROM:+0000
TZOFFSETTO:+0100
TZNAME:BST
DTSTART:20240331T010000
END:DAYLIGHT
BEGIN:STANDARD
TZOFFSETFROM:+0100
TZOFFSETTO:+0000
TZNAME:GMT
DTSTART:20241027T010000
END:STANDARD
BEGIN:DAYLIGHT
TZOFFSETFROM:+0000
TZOFFSETTO:+0100
TZNAME:BST
DTSTART:20250330T010000
END:DAYLIGHT
BEGIN:STANDARD
TZOFFSETFROM:+0100
TZOFFSETTO:+0000
TZNAME:GMT
DTSTART:20251026T010000
END:STANDARD
BEGIN:DAYLIGHT
TZOFFSETFROM:+0000
TZOFFSETTO:+0100
TZNAME:BST
DTSTART:20260329T010000
END:DAYLIGHT
BEGIN:STANDARD
TZOFFSETFROM:+0100
TZOFFSETTO:+0000
TZNAME:GMT
DTSTART:20261025T010000
END:STANDARD
END:VTIMEZONE
BEGIN:VEVENT
DTSTART;TZID=Europe/London:20250423T103000
DTEND;TZID=Europe/London:20250430T120000
DTSTAMP:20260423T212957
CREATED:20250103T162754Z
LAST-MODIFIED:20250228T101856Z
UID:3661-1745404200-1746014400@www.bosom-pals.org.uk
SUMMARY:Wednesday\, 23 April coffee meet-up
DESCRIPTION:It is Sue who has volunteered to be in Gallones Ice Cream Parlour from 10.30 to 12 noon.  Why not join her and other members for a drink and chat.
URL:https://www.bosom-pals.org.uk/events/wednesday-30-april-coffee-meet-up/
LOCATION:Gallone’s Ice Cream Parlour\, Old Arcade\, Bedford
CATEGORIES:events
ATTACH;FMTTYPE=image/png:https://www.bosom-pals.org.uk/wp-content/uploads/2022/01/Coffee-e1465470044632.png
END:VEVENT
END:VCALENDAR