BEGIN:VCALENDAR
VERSION:2.0
PRODID:-//Bosom Pals - ECPv6.15.20//NONSGML v1.0//EN
CALSCALE:GREGORIAN
METHOD:PUBLISH
X-ORIGINAL-URL:https://www.bosom-pals.org.uk
X-WR-CALDESC:Events for Bosom Pals
REFRESH-INTERVAL;VALUE=DURATION:PT1H
X-Robots-Tag:noindex
X-PUBLISHED-TTL:PT1H
BEGIN:VTIMEZONE
TZID:Europe/London
BEGIN:DAYLIGHT
TZOFFSETFROM:+0000
TZOFFSETTO:+0100
TZNAME:BST
DTSTART:20240331T010000
END:DAYLIGHT
BEGIN:STANDARD
TZOFFSETFROM:+0100
TZOFFSETTO:+0000
TZNAME:GMT
DTSTART:20241027T010000
END:STANDARD
BEGIN:DAYLIGHT
TZOFFSETFROM:+0000
TZOFFSETTO:+0100
TZNAME:BST
DTSTART:20250330T010000
END:DAYLIGHT
BEGIN:STANDARD
TZOFFSETFROM:+0100
TZOFFSETTO:+0000
TZNAME:GMT
DTSTART:20251026T010000
END:STANDARD
BEGIN:DAYLIGHT
TZOFFSETFROM:+0000
TZOFFSETTO:+0100
TZNAME:BST
DTSTART:20260329T010000
END:DAYLIGHT
BEGIN:STANDARD
TZOFFSETFROM:+0100
TZOFFSETTO:+0000
TZNAME:GMT
DTSTART:20261025T010000
END:STANDARD
END:VTIMEZONE
BEGIN:VEVENT
DTSTART;TZID=Europe/London:20250409T194500
DTEND;TZID=Europe/London:20250409T213000
DTSTAMP:20260423T213126
CREATED:20250103T155545Z
LAST-MODIFIED:20250301T145900Z
UID:3647-1744227900-1744234200@www.bosom-pals.org.uk
SUMMARY:9 April meeting
DESCRIPTION:This is our AGM when we always hope that members will attend to hear about the previous year but more importantly\, the plans for the future one.  It is an ideal time for members to make suggestions for outings\, speakers etc which will then be considered by the committee at the following committee meeting.  Hot cross buns will be provided with your drink.
URL:https://www.bosom-pals.org.uk/events/9-april-meeting/
LOCATION:Church of the Transfiguration\, Bedford Road\, Kempston\, Bedford\, MK42 8BQ
CATEGORIES:meetings
ATTACH;FMTTYPE=image/jpeg:https://www.bosom-pals.org.uk/wp-content/uploads/2025/01/hot-cross-buns.jpg
END:VEVENT
END:VCALENDAR