BEGIN:VCALENDAR
VERSION:2.0
PRODID:-//Bosom Pals - ECPv6.15.20//NONSGML v1.0//EN
CALSCALE:GREGORIAN
METHOD:PUBLISH
X-WR-CALNAME:Bosom Pals
X-ORIGINAL-URL:https://www.bosom-pals.org.uk
X-WR-CALDESC:Events for Bosom Pals
REFRESH-INTERVAL;VALUE=DURATION:PT1H
X-Robots-Tag:noindex
X-PUBLISHED-TTL:PT1H
BEGIN:VTIMEZONE
TZID:Europe/London
BEGIN:DAYLIGHT
TZOFFSETFROM:+0000
TZOFFSETTO:+0100
TZNAME:BST
DTSTART:20240331T010000
END:DAYLIGHT
BEGIN:STANDARD
TZOFFSETFROM:+0100
TZOFFSETTO:+0000
TZNAME:GMT
DTSTART:20241027T010000
END:STANDARD
BEGIN:DAYLIGHT
TZOFFSETFROM:+0000
TZOFFSETTO:+0100
TZNAME:BST
DTSTART:20250330T010000
END:DAYLIGHT
BEGIN:STANDARD
TZOFFSETFROM:+0100
TZOFFSETTO:+0000
TZNAME:GMT
DTSTART:20251026T010000
END:STANDARD
BEGIN:DAYLIGHT
TZOFFSETFROM:+0000
TZOFFSETTO:+0100
TZNAME:BST
DTSTART:20260329T010000
END:DAYLIGHT
BEGIN:STANDARD
TZOFFSETFROM:+0100
TZOFFSETTO:+0000
TZNAME:GMT
DTSTART:20261025T010000
END:STANDARD
END:VTIMEZONE
BEGIN:VEVENT
DTSTART;TZID=Europe/London:20250226T140000
DTEND;TZID=Europe/London:20250226T153000
DTSTAMP:20260423T225501
CREATED:20250103T161852Z
LAST-MODIFIED:20250103T165331Z
UID:3657-1740578400-1740583800@www.bosom-pals.org.uk
SUMMARY:Wednesday\, 26 February coffee meet-up
DESCRIPTION:Between 2 and 3.30\, Brenda will be in Gallone’s Ice Cream Parlour having a drink and talking with any members that drop in to keep her company
URL:https://www.bosom-pals.org.uk/events/wednesday-26-february-coffee-meet-up/
LOCATION:Gallone’s Ice Cream Parlour\, Old Arcade\, Bedford
CATEGORIES:events
ATTACH;FMTTYPE=image/jpeg:https://www.bosom-pals.org.uk/wp-content/uploads/2022/03/Gallones.jpg
END:VEVENT
END:VCALENDAR